BEGIN:VCALENDAR
VERSION:2.0
PRODID:-//New England Regional Art Museum - ECPv4.6.24.1//NONSGML v1.0//EN
CALSCALE:GREGORIAN
METHOD:PUBLISH
X-WR-CALNAME:New England Regional Art Museum
X-ORIGINAL-URL:https://www.neram.com.au
X-WR-CALDESC:Events for New England Regional Art Museum
BEGIN:VEVENT
DTSTART;TZID=Australia/Sydney:20260502T103000
DTEND;TZID=Australia/Sydney:20260502T113000
DTSTAMP:20260421T085224
CREATED:20260415T002724Z
LAST-MODIFIED:20260415T002919Z
UID:41139-1777717800-1777721400@www.neram.com.au
SUMMARY:Artist Talk: Australian Society of Miniature Art
DESCRIPTION:Join us for an insightful artist talk with members of the Australian Society of Miniature Art\, whose works feature in A Journey in Miniature exhibition at NERAM. \nDon’t miss this opportunity to hear directly from the artists and gain deeper insight into the world of small-scale art. \nSaturday 2 May 10.30am \n\n\n \n
URL:https://www.neram.com.au/event/artist-talk-australian-society-of-miniature-art/
CATEGORIES:Event,Talk
ATTACH;FMTTYPE=image/jpeg:https://www.neram.com.au/content/uploads/2026/04/NERAM2026_image_block.jpg
END:VEVENT
END:VCALENDAR