BEGIN:VCALENDAR
VERSION:2.0
PRODID:-//New England Regional Art Museum - ECPv4.6.24.1//NONSGML v1.0//EN
CALSCALE:GREGORIAN
METHOD:PUBLISH
X-WR-CALNAME:New England Regional Art Museum
X-ORIGINAL-URL:https://www.neram.com.au
X-WR-CALDESC:Events for New England Regional Art Museum
BEGIN:VEVENT
DTSTART;TZID=Australia/Sydney:20250716T103000
DTEND;TZID=Australia/Sydney:20250716T121500
DTSTAMP:20260420T201251
CREATED:20250619T042134Z
LAST-MODIFIED:20250715T035401Z
UID:37472-1752661800-1752668100@www.neram.com.au
SUMMARY:Beautiful Botanicals | July Holiday Workshop
DESCRIPTION:In this fun and creative art workshop\, students will explore the vibrant world of Australian artist Bernadette Twomey\, known for her colourful and bold plant-inspired artworks. After looking closely at her use of shape\, line\, and colour\, students will observe the natural world around them to find their own inspiration. \nThey’ll sketch abstract plant designs\, then choose a colour palette—cool\, warm\, earthy\, or a unique combination. Students will then create and bring to life their own botanical artwork. \nAll Materials are included. \n  \nFor ages 10yrs + \nDATE | Wednesday July 16th \nTIME | 10.30 – 12.15 pm \nVENUE | Packsaddle Studio NERAM \nPRICE | General Price $34   FoN/CC member Price $31 \n  \n\n\nTerms and Conditions \n\nAll bookings for workshops require payment in full at the time of booking.\nA minimum of 8 participants for workshop to proceed\, maximum of 12 participants.\nBookings close on Monday 14 July 9am. No refunds can be made after bookings close.\nIf the workshop does not proceed\, you will be refunded any cash amount.\nNERAM events have a limited capacity and use a ticketing system. Bookings are essential.\n\n
URL:https://www.neram.com.au/event/beautiful-botanicals-july-holiday-workshop/
CATEGORIES:Art Classes,NERAM Kids,Workshops
ATTACH;FMTTYPE=image/jpeg:https://www.neram.com.au/content/uploads/2025/06/Botanicals-Painting-Thalgarrah-15.jpg
END:VEVENT
END:VCALENDAR