BEGIN:VCALENDAR
VERSION:2.0
PRODID:-//New England Regional Art Museum - ECPv4.6.24.1//NONSGML v1.0//EN
CALSCALE:GREGORIAN
METHOD:PUBLISH
X-WR-CALNAME:New England Regional Art Museum
X-ORIGINAL-URL:https://www.neram.com.au
X-WR-CALDESC:Events for New England Regional Art Museum
BEGIN:VEVENT
DTSTART;TZID=Australia/Sydney:20240531T180000
DTEND;TZID=Australia/Sydney:20240707T160000
DTSTAMP:20260423T075650
CREATED:20240513T060036Z
LAST-MODIFIED:20240513T061656Z
UID:30686-1717178400-1720368000@www.neram.com.au
SUMMARY:Canyons: Ebony Russell
DESCRIPTION:Combining ceramic sculpture with the practice of cake decorating provides Ebony Russell with the tools to manipulate porcelain into words typically seen on celebratory cakes\, a cultural practice used for birthdays\, weddings and anniversaries. In this series\, Canyons\, Russell has constructed small craggy mountains from layers of piped porcelain\, rising from a piped phrase or term. The forms may be Gothic\, but the colour scheme is predominantly pink and white\, leaning into the gendered territory of female childhood. \nKids Sugar Sculpture Workshop: Sunday 26 May\, 10am – 12pm (5-9yrs) & 2-4pm (10-15yrs) \nOpening night: Friday 31 May\, 6-8pm \nImage credit: Ebony Russell\, Babygirl\, 2020\, porcelain. Courtesy the artist and Artereal Gallery.\n
URL:https://www.neram.com.au/event/canyons-ebony-russell/
CATEGORIES:Exhibitions
ATTACH;FMTTYPE=image/jpeg:https://www.neram.com.au/content/uploads/2024/05/Babygirl-sm.jpg
END:VEVENT
END:VCALENDAR