BEGIN:VCALENDAR
VERSION:2.0
PRODID:-//New England Regional Art Museum - ECPv4.6.24.1//NONSGML v1.0//EN
CALSCALE:GREGORIAN
METHOD:PUBLISH
X-WR-CALNAME:New England Regional Art Museum
X-ORIGINAL-URL:https://www.neram.com.au
X-WR-CALDESC:Events for New England Regional Art Museum
BEGIN:VEVENT
DTSTART;TZID=Australia/Sydney:20240710T130000
DTEND;TZID=Australia/Sydney:20240710T150000
DTSTAMP:20260423T165333
CREATED:20240625T023723Z
LAST-MODIFIED:20240702T025203Z
UID:31980-1720616400-1720623600@www.neram.com.au
SUMMARY:Cardboard Sculptures  | Holiday workshop
DESCRIPTION:Are you ready to let your imagination go wild? Create your own colourful cardboard sculpture of a bird\, a dinosaur\, your favourite animal or even a colourful garden scene\, the sky is the limit! \nCome along and enjoy a session of designing\, decorating and assembling a creative critter. Start with mix and match cardboard shapes\, then make your sculpture stand out by adding the decorations as colourful as your imagination allows! \nOpen to all ages 5yrs and over\, we encourage parents to accompany children under 8 years old. All materials are included. \n\nDates |  Wednesday 10th July \n\nTime | 1:00pm – 3:00pm \nVenue | Packsaddle Studio (located at the rear of NERAM ) \nCost |  Friends of NERAM/Culture Club Members – $27.50 \, General – $25.00 \nMax 15 \n\n\n        var humanitix = {\n          realOffsetTop: (el) => {\n            var combinedTop = 0;\n            if (el.offsetParent) {\n              do combinedTop += el.offsetTop;\n              while ((el = el.offsetParent));\n              return [combinedTop];\n            }\n          }\,\n          updateTopBottomAnchors: () => {\n            let scrollY = window.scrollY;\n            let childFrame = document.getElementById("iframe-container");\n            let iframeY = humanitix.realOffsetTop(childFrame);\n            let iframeH = childFrame.offsetHeight;\n            let topAnchor = scrollY - iframeY  {\n            if (e.origin !== "https://events.humanitix.com") return; \n            var messageData = e.data;\n            var iframeEl = document.getElementById("iframe-container");\n            if (iframeEl && messageData && !isNaN(messageData.scrollHeight)) {\n            iframeEl.style.height = messageData.scrollHeight + "px";\n            }\n            if (iframeEl && messageData && messageData.pageChange) {\n            window.scroll(0\, humanitix.realOffsetTop(iframeEl));\n            }\n          }\n        };\n        window.addEventListener("scroll"\, humanitix.updateTopBottomAnchors);\n        window.addEventListener("scrollEnd"\, humanitix.updateTopBottomAnchors);\n        window.addEventListener("message"\, humanitix.handleMessage\, false);\n     \n
URL:https://www.neram.com.au/event/cardboard-sculptures-holiday-workshop/
CATEGORIES:Art Classes,NERAM Kids,Workshops
ATTACH;FMTTYPE=image/jpeg:https://www.neram.com.au/content/uploads/2024/06/Picture2.jpg
END:VEVENT
END:VCALENDAR