BEGIN:VCALENDAR
VERSION:2.0
PRODID:-//New England Regional Art Museum - ECPv4.6.24.1//NONSGML v1.0//EN
CALSCALE:GREGORIAN
METHOD:PUBLISH
X-WR-CALNAME:New England Regional Art Museum
X-ORIGINAL-URL:https://www.neram.com.au
X-WR-CALDESC:Events for New England Regional Art Museum
BEGIN:VEVENT
DTSTART;TZID=Australia/Sydney:20250712T150000
DTEND;TZID=Australia/Sydney:20250712T150000
DTSTAMP:20260421T011508
CREATED:20250709T013805Z
LAST-MODIFIED:20250709T013936Z
UID:37793-1752332400-1752332400@www.neram.com.au
SUMMARY:Guided tour of Lost in Palm Springs
DESCRIPTION:Join us for a free guided tour of Lost in Palm Springs with Sam Creyton\, Curatorial and Engagement Manager from HOTA. \nSaturday July 12 at 3pm \nSam Creyton is the Curatorial and Engagement Manager from Home of the Arts\, Gold Coast. \n\n\nThis interdisciplinary exhibition brings together 14 creative minds – including internationally recognised artists\, photographers and thinkers from America and Australia – who respond to\, capture\, or reimagine the magical qualities of the landscape and the celebrated mid-century modern architecture found in the desert city. \n\n\n\n\nConnections between Palm Springs and Australia are remarkably strong\, particularly when viewed through the lens of the current renaissance of interest in modernist architecture. Place and home\, desert atmospheres\, landscapes (real and imagined)\, and Bauhaus sensibilities inform the works. \n\n\n\n\nThe Australian artists represented in the exhibition are Kate Ballis\, Tom Blachford\, Anna Carey\, Sam Cranstoun\, Paul Davies\, Rosi Griffin\, Vicki Stravrou\, Robyn Sweaney and Gosia Wlodarczak. American artists in the exhibition are Darren Bradley\, Jim Isermann\, Troy Kudlac\, Lance O’Donnell and Kim Stringfellow. \n\n\n\n\nCurated by artist Dr Greer Honeywill\, Lost in Palm Springs is a touring initiative developed by HOTA\, Home of the Arts\, Gold Coast in partnership with Museums & Galleries Queensland. This project has been assisted by the Australian Government through its Visions of Australia program and through the Australia Council\, its arts funding and advisory body. It is supported by the Queensland Government through Arts Queensland\, part of the Department of Communities\, Housing and Digital Economy\, and proudly sponsored by IAS Fine Art Logistics and o2 Architecture. \n\n\n\n\nMuseums & Galleries Queensland is supported by the Tim Fairfax Family Foundation and receives funds from Creative Partnerships Australia through the Australian Cultural Fund. \n  \n\n\n  \n\nImage credit: Paul Davies\, Built Landscape III\, 2015\, vinyl acrylic copolymer on canvas. Collection: Patrick Corrigan Collection. Image courtesy of the artist and the Patrick Corrigan Collection \n\n
URL:https://www.neram.com.au/event/guided-tour-of-lost-in-palm-springs/
CATEGORIES:Event,Talk
ATTACH;FMTTYPE=image/jpeg:https://www.neram.com.au/content/uploads/2025/07/Built-Landscape-III_-acrylic-on-canvas-70_-x-58_-2015-.jpg
END:VEVENT
END:VCALENDAR