BEGIN:VCALENDAR
VERSION:2.0
PRODID:-//New England Regional Art Museum - ECPv4.6.24.1//NONSGML v1.0//EN
CALSCALE:GREGORIAN
METHOD:PUBLISH
X-WR-CALNAME:New England Regional Art Museum
X-ORIGINAL-URL:https://www.neram.com.au
X-WR-CALDESC:Events for New England Regional Art Museum
BEGIN:VEVENT
DTSTART;TZID=Australia/Sydney:20190705T180000
DTEND;TZID=Australia/Sydney:20191013T160000
DTSTAMP:20210301T073230
CREATED:20190626T001602Z
LAST-MODIFIED:20190717T012506Z
UID:9233-1562349600-1570982400@www.neram.com.au
SUMMARY:Hadyn Wilson: An Historical Novel
DESCRIPTION:Hadyn Wilson has undertaken a journey of creative sleuthing and research to put together an alternative history of selected works in the Hinton Collection. From the beloved ‘Yellow Gloves’ moonlighting as a fast food icon to commentary on international politics in James Cook’s ‘The Bequinage\, Brussels’\, Wilson casts a contemporary eye on paintings of the past resulting in a renewed questioning and engagement with the works. \nOpening Night Event: Friday 5th July from 6.00pm \nOpening Guest Speaker: John McDonald  \nImage: Hadyn Wilson\, Esther Paterson’s The Yellow Gloves (also known as Portrait of Betty Paterson)\,1938 moonlighting as R. McDonald\, 2019\, oil on board\nWorks from this exhibition are available for purchase: Price List Hadyn Wilson An Historical Novel \n
URL:https://www.neram.com.au/event/hadyn-wilson-an-historical-novel/
CATEGORIES:Exhibitions
ATTACH;FMTTYPE=image/jpeg:https://www.neram.com.au/content/uploads/2019/06/Hadyn-Wilson_Esther-Patersons-The-Yellow-Gloves-v2019-e1561938172142.jpeg
END:VEVENT
END:VCALENDAR