BEGIN:VCALENDAR
VERSION:2.0
PRODID:-//New England Regional Art Museum - ECPv4.6.24.1//NONSGML v1.0//EN
CALSCALE:GREGORIAN
METHOD:PUBLISH
X-WR-CALNAME:New England Regional Art Museum
X-ORIGINAL-URL:https://www.neram.com.au
X-WR-CALDESC:Events for New England Regional Art Museum
BEGIN:VEVENT
DTSTART;TZID=Australia/Sydney:20190630T120000
DTEND;TZID=Australia/Sydney:20190630T130000
DTSTAMP:20210301T072958
CREATED:20190626T055347Z
LAST-MODIFIED:20190626T055538Z
UID:9240-1561896000-1561899600@www.neram.com.au
SUMMARY:Hinton Spotlight: Elioth Gruner
DESCRIPTION:Join us for our second Spotlight discussion that focuses on a particular artist from the Hinton Collection. This time we will be discussing a firm favourite\, Elioth Gruner. \nWe will look at various aspects of Gruner’s life\, the works in the collection and material from our research Library\, as well as revealing a personal connection Gruner had to families in the New England region. \nImage: Elioth Gruner\, The beach 1918. Oil on canvas. Gift of Howard Hinton 1941.\n
URL:https://www.neram.com.au/event/hinton-spotlight-elioth-gruner/
CATEGORIES:Event,Talk
ATTACH;FMTTYPE=image/jpeg:https://www.neram.com.au/content/uploads/2019/06/64877499_2253148231388665_3187757940073299968_n.jpg
END:VEVENT
END:VCALENDAR