BEGIN:VCALENDAR
VERSION:2.0
PRODID:-//New England Regional Art Museum - ECPv4.6.24.1//NONSGML v1.0//EN
CALSCALE:GREGORIAN
METHOD:PUBLISH
X-WR-CALNAME:New England Regional Art Museum
X-ORIGINAL-URL:https://www.neram.com.au
X-WR-CALDESC:Events for New England Regional Art Museum
BEGIN:VEVENT
DTSTART;TZID=Australia/Sydney:20210220T133000
DTEND;TZID=Australia/Sydney:20210220T150000
DTSTAMP:20210301T075829
CREATED:20210210T234409Z
LAST-MODIFIED:20210210T234904Z
UID:15201-1613827800-1613833200@www.neram.com.au
SUMMARY:Kids Collage Workshop
DESCRIPTION:This exciting workshop will guide kids through making their own unique collage. Set in the Mazda Gallery\, participants will be surrounded by inspiration from works by the Sydney Collage Society. \n\nDate: Saturday 20 February 2021 \nTime: 1:30pm – 3:00pm\nAge Group: 6+\nCost: $12.50 pp\nMost materials supplied\, please see description below.\nVenue: NERAM\n\nBookings Essential: Book Here or call us on 02 6772 5255 \nIn this workshop kids are asked to bring photographs\, it could be of themselves a friend\, animal\, object\, or landscape. These photos can be printed through a regular printer and in black and white (if you are unable to do this at home\, please email us and we will organise to print it for you). Kids will then create their own unique photomontages. \nParents are welcome to join in or leave the kids with us for the duration. \nThere are no rules to this workshop but our facilitator will be there to provide guidance on colour\, balance and scale. \nA minimum number of participants are required for the class to run. Please book now to ensure classes go ahead. \nFor further enquiries\, please email foh@neram.com.au or call us on 02 6772 5255. \n  \nImage Credit: LA Early\, Springsteen\, Australian Blue – Acrylic and Collage\, 2020 \n
URL:https://www.neram.com.au/event/kids-collage-workshop/
CATEGORIES:Activity,Art Classes,Event,NERAM Kids,Workshops
ATTACH;FMTTYPE=image/png:https://www.neram.com.au/content/uploads/2021/02/LA-Early-1.png
END:VEVENT
END:VCALENDAR