BEGIN:VCALENDAR
VERSION:2.0
PRODID:-//New England Regional Art Museum - ECPv4.6.24.1//NONSGML v1.0//EN
CALSCALE:GREGORIAN
METHOD:PUBLISH
X-WR-CALNAME:New England Regional Art Museum
X-ORIGINAL-URL:https://www.neram.com.au
X-WR-CALDESC:Events for New England Regional Art Museum
BEGIN:VEVENT
DTSTART;TZID=Australia/Sydney:20250712T190000
DTEND;TZID=Australia/Sydney:20250712T213000
DTSTAMP:20260421T001243
CREATED:20250618T055423Z
LAST-MODIFIED:20250703T081059Z
UID:37466-1752346800-1752355800@www.neram.com.au
SUMMARY:Lost in Palm Springs Winter Cocktail Party
DESCRIPTION:Step out of the chilly New England winter and into a sun‑drenched fantasy with our Palm Springs–themed cocktail party\, celebrating the opening of Lost in Palm Springs at NERAM! \nExpect a fabulously ironic splash of mid‑century glam\, palm‑frond pink-and-green décor\, and inflatable flamingos & palm trees. Sip on curated cocktails and enjoy grazing boards surrounded by lush kitsch vibes—with just a hint of White Lotus drama. \nSoundtrack by Bitz of Buzz will keep the retro energy pulsing while you’re lounging poolside (in your mind) and rocking your best resort wear outfits (but bring a coat too). Wander through the exhibition’s dreamy reinterpretations of Palm Springs architecture and art—a desert oasis within the New England winter landscape. \n\nPalm Springs inspired cocktails (cash bar\, eftpos available)\nGrazing boards\nLive Music\nExhibition entry + catalogue\n\nLost in Palm Springs is a touring initiative developed by HOTA\, Home of the Arts\, Gold Coast in partnership with Museums & Galleries Queensland. This interdisciplinary exhibition brings together 14 creative minds – including internationally recognised artists\, photographers and thinkers from America and Australia – who respond to\, capture\, or reimagine the magical qualities of the landscape and the celebrated mid-century modern architecture found in the desert city. \n  \n\n \n
URL:https://www.neram.com.au/event/lost-in-palm-springs-winter-cocktail-party/
CATEGORIES:Event
ATTACH;FMTTYPE=image/png:https://www.neram.com.au/content/uploads/2025/06/Untitled-design-6.png
END:VEVENT
END:VCALENDAR