BEGIN:VCALENDAR
VERSION:2.0
PRODID:-//New England Regional Art Museum - ECPv4.6.24.1//NONSGML v1.0//EN
CALSCALE:GREGORIAN
METHOD:PUBLISH
X-WR-CALNAME:New England Regional Art Museum
X-ORIGINAL-URL:https://www.neram.com.au
X-WR-CALDESC:Events for New England Regional Art Museum
BEGIN:VEVENT
DTSTART;TZID=Australia/Sydney:20250730T180000
DTEND;TZID=Australia/Sydney:20250730T210000
DTSTAMP:20260420T151519
CREATED:20250704T011358Z
LAST-MODIFIED:20250704T011613Z
UID:37771-1753898400-1753909200@www.neram.com.au
SUMMARY:Menopause is not a dirty word!
DESCRIPTION:Join HealthWISE for this free community event focused on the stages of menopause. Connect with others experiencing this stage of life and those supporting them. \nFeaturing a lineup of special guest speakers\, who specialise in menopause support. \nEmpower yourself and your family with valuable insights\, open discussions\, strategies and support. Men are welcome! Refreshments will be provided. \nContact Emma for more information on (02) 6766 1394 or emma.knights@healthwise.org.au \n  \nDate | July 30 \nTime | 6 – 9pm\, doors open at 5.30pm \n\nVenue | NERAM \n\n  \n \n  \n  \n
URL:https://www.neram.com.au/event/menopause-is-not-a-dirty-word/
CATEGORIES:Event
END:VEVENT
END:VCALENDAR