BEGIN:VCALENDAR
VERSION:2.0
PRODID:-//New England Regional Art Museum - ECPv4.6.24.1//NONSGML v1.0//EN
CALSCALE:GREGORIAN
METHOD:PUBLISH
X-WR-CALNAME:New England Regional Art Museum
X-ORIGINAL-URL:https://www.neram.com.au
X-WR-CALDESC:Events for New England Regional Art Museum
BEGIN:VEVENT
DTSTART;TZID=Australia/Sydney:20240712T180000
DTEND;TZID=Australia/Sydney:20240712T200000
DTSTAMP:20260423T195101
CREATED:20240328T005624Z
LAST-MODIFIED:20240702T024430Z
UID:29624-1720807200-1720814400@www.neram.com.au
SUMMARY:Opening night | Friday 12 July
DESCRIPTION:Join us for the opening of three new exhibitions. \n  \nMarks are Memories  | Selected indigenous works from the Moule Collection\n  \nRevealed | Hidden gems from the UNE Art Collection\n  \nLoungeroom Collector #7 | Danijela Krha Purssey & Richard Purssey | Collector Conversation: Saturday 13 July\, 10.30am\n  \n\n\n        var humanitix = {\n          realOffsetTop: (el) => {\n            var combinedTop = 0;\n            if (el.offsetParent) {\n              do combinedTop += el.offsetTop;\n              while ((el = el.offsetParent));\n              return [combinedTop];\n            }\n          }\,\n          updateTopBottomAnchors: () => {\n            let scrollY = window.scrollY;\n            let childFrame = document.getElementById("iframe-container");\n            let iframeY = humanitix.realOffsetTop(childFrame);\n            let iframeH = childFrame.offsetHeight;\n            let topAnchor = scrollY - iframeY  {\n            if (e.origin !== "https://events.humanitix.com") return; \n            var messageData = e.data;\n            var iframeEl = document.getElementById("iframe-container");\n            if (iframeEl && messageData && !isNaN(messageData.scrollHeight)) {\n            iframeEl.style.height = messageData.scrollHeight + "px";\n            }\n            if (iframeEl && messageData && messageData.pageChange) {\n            window.scroll(0\, humanitix.realOffsetTop(iframeEl));\n            }\n          }\n        };\n        window.addEventListener("scroll"\, humanitix.updateTopBottomAnchors);\n        window.addEventListener("scrollEnd"\, humanitix.updateTopBottomAnchors);\n        window.addEventListener("message"\, humanitix.handleMessage\, false);\n     \nImage credit: Richard Bell\, From Prometheus to Epimetheus (Bell’s Theorem) 2011\, acrylic on linen. Courtesy of the artist and Milani Gallery\, Brisbane.\n
URL:https://www.neram.com.au/event/opening-july/
CATEGORIES:Event
ATTACH;FMTTYPE=image/jpeg:https://www.neram.com.au/content/uploads/2024/03/Richard-Bell_From-Prometheus-to-Epimetheus.jpg
END:VEVENT
END:VCALENDAR