BEGIN:VCALENDAR
VERSION:2.0
PRODID:-//New England Regional Art Museum - ECPv4.6.24.1//NONSGML v1.0//EN
CALSCALE:GREGORIAN
METHOD:PUBLISH
X-WR-CALNAME:New England Regional Art Museum
X-ORIGINAL-URL:https://www.neram.com.au
X-WR-CALDESC:Events for New England Regional Art Museum
BEGIN:VEVENT
DTSTART;TZID=Australia/Sydney:20240816T180000
DTEND;TZID=Australia/Sydney:20240922T160000
DTSTAMP:20260420T200958
CREATED:20240729T070625Z
LAST-MODIFIED:20240729T070625Z
UID:32782-1723831200-1727020800@www.neram.com.au
SUMMARY:Rainbow: Alun Rhys Jones
DESCRIPTION:Rainbow colours are often used by companies and brands to create products and services to attract the LGBTQIA+ community. In Rainbow\, Bellingen-based artist Alun Rhys Jones creates a fake gift shop maximalist in its hang with bright graphics and merchandise\, including T-shirts\, wallpaper\, and mugs\, to reflect on how rainbow colours are utilised to attract the pink dollar of LGBTQIA+ consumers. \nOpening night: Friday 16 August\, 6-8pm \nImage credit: Alun Rhys Jones\, Pantone Belief System (pink)\, 2024\, acrylic on canvas. Courtesy the artist.\n  \nPart of the Winter Blooming Festival \n \n
URL:https://www.neram.com.au/event/rainbow-alun-rhys-jones/
CATEGORIES:Exhibitions
ATTACH;FMTTYPE=image/jpeg:https://www.neram.com.au/content/uploads/2024/07/Pantone-skull_pink.jpg
END:VEVENT
END:VCALENDAR