BEGIN:VCALENDAR
VERSION:2.0
PRODID:-//New England Regional Art Museum - ECPv4.6.24.1//NONSGML v1.0//EN
CALSCALE:GREGORIAN
METHOD:PUBLISH
X-WR-CALNAME:New England Regional Art Museum
X-ORIGINAL-URL:https://www.neram.com.au
X-WR-CALDESC:Events for New England Regional Art Museum
BEGIN:VEVENT
DTSTART;TZID=Australia/Sydney:20250207T173000
DTEND;TZID=Australia/Sydney:20250406T160000
DTSTAMP:20260421T074059
CREATED:20250114T061559Z
LAST-MODIFIED:20250114T233407Z
UID:34390-1738949400-1743955200@www.neram.com.au
SUMMARY:The Interior: Natalya Hughes
DESCRIPTION:The Interior is an immersive installation combining sculptural seating\, richly patterned soft furnishings\, and uncanny object d’art\, nestled around a hand painted mural to generate a stimulating space to unpack our collective and unconscious biases. \nNatalya Hughes\, one of Australia’s most exciting mid-career artists\, is known for her explorations of decorative and ornamental traditions and their associations with the feminine\, the human form\, and excess. Recent bodies of work investigate the relationship between Modernist painters and their anonymous women subjects. \nCurated by Tulleah Pearce. \nThe Interior is a travelling exhibition organised by Institute of Modern Art (IMA)\, toured by Museums & Galleries Queensland. \nThe Interior has been assisted by the Australian Government through the Australia Council\, its arts funding and advisory body; the Australia Council’s Contemporary Touring initiative; the Fini Artist Fellowship through the Sheila Foundation; Queensland College of Art\, Griffith University; Creative Art Research Institute\, Griffith University; and Porter’s Paints\, New Farm.  \nNatalya Hughes is represented by Milani Gallery\, Brisbane\, and Sullivan+Strumpf\, Sydney. \n  \nOpening night: Friday 7 February \nIn Conversation with Natalya Hughes\, 5.30pm \nOpening remarks\, 6pm \nImage credit: Installation view\, Natalya Hughes: The Interior\, 2022\, Institute of Modern Art. Photography: Charlie Hillhouse.\n \n
URL:https://www.neram.com.au/event/the-interior-natalya-hughes/
CATEGORIES:Exhibitions
ATTACH;FMTTYPE=image/jpeg:https://www.neram.com.au/content/uploads/2025/01/IMA-Hughes-The-Interior_HR-102_small.jpg
END:VEVENT
END:VCALENDAR