BEGIN:VCALENDAR
VERSION:2.0
PRODID:-//New England Regional Art Museum - ECPv4.6.24.1//NONSGML v1.0//EN
CALSCALE:GREGORIAN
METHOD:PUBLISH
X-WR-CALNAME:New England Regional Art Museum
X-ORIGINAL-URL:https://www.neram.com.au
X-WR-CALDESC:Events for New England Regional Art Museum
BEGIN:VEVENT
DTSTART;TZID=Australia/Sydney:20250919T190000
DTEND;TZID=Australia/Sydney:20250919T220000
DTSTAMP:20260420T181712
CREATED:20250819T064014Z
LAST-MODIFIED:20250912T022519Z
UID:39121-1758308400-1758319200@www.neram.com.au
SUMMARY:Winter Blooming Ball 2025
DESCRIPTION:It’s time to dance at the 2025 Winter Blooming Ball! \nThe prom you always dreamed of — the event of the season and a night to remember. Dress to impress as your true self\, come with your partner\, friends\, or slay it solo. Everyone is welcome! \nTropical Fruits will light up the night with an unforgettable mix of DJs and drag performances. Enjoy delicious nibbles\, cocktails from our pop-up bar\, and a celebration full of sparkle. \nGet ready to shine brighter than the disco ball! \nPre order your hot food when you purchase your tickets. \n\n \nWinter Blooming has been Produced in collaboration with the University of New England\, Australian GLBTIQ Multicultural Council\, and ACON.  \n                   \n
URL:https://www.neram.com.au/event/winter-blooming-ball-2025/
CATEGORIES:Event
ATTACH;FMTTYPE=image/png:https://www.neram.com.au/content/uploads/2025/08/Screenshot-2025-08-19-163022.png
END:VEVENT
END:VCALENDAR