BEGIN:VCALENDAR
VERSION:2.0
PRODID:-//New England Regional Art Museum - ECPv4.6.24.1//NONSGML v1.0//EN
CALSCALE:GREGORIAN
METHOD:PUBLISH
X-WR-CALNAME:New England Regional Art Museum
X-ORIGINAL-URL:https://www.neram.com.au
X-WR-CALDESC:Events for New England Regional Art Museum
BEGIN:VEVENT
DTSTART;TZID=Australia/Sydney:20190124T170000
DTEND;TZID=Australia/Sydney:20190124T190000
DTSTAMP:20210301T073305
CREATED:20190102T003831Z
LAST-MODIFIED:20190102T003831Z
UID:8275-1548349200-1548356400@www.neram.com.au
SUMMARY:Zine – Making: words + art + identity Adult Workshop
DESCRIPTION:This workshop runs in conjunction with the zines exhibition Self-made: zines and artist books on at NERAM\, from the State Library of Victoria.\n\nThis hands-on workshop explores how authors have expressed themselves through art and self-publication from medieval times to today’s contemporary scene. \nStudents will learn about artist books and zines\, and practise zine-making techniques with an experienced educator to create their own take-home zine. Your zine could be about an important issue\, that thing you love\, or pugs! \nBook Now: www.trybooking.com/BAAHC \n   \n
URL:https://www.neram.com.au/event/zine-making-words-art-identity-adult-workshop/
CATEGORIES:Workshops
ATTACH;FMTTYPE=image/jpeg:https://www.neram.com.au/content/uploads/2019/01/48395630_1975745495795608_4928594282056515584_n.jpg
END:VEVENT
END:VCALENDAR