BEGIN:VCALENDAR
VERSION:2.0
PRODID:-//New England Regional Art Museum - ECPv4.6.24.1//NONSGML v1.0//EN
CALSCALE:GREGORIAN
METHOD:PUBLISH
X-WR-CALNAME:New England Regional Art Museum
X-ORIGINAL-URL:https://www.neram.com.au
X-WR-CALDESC:Events for New England Regional Art Museum
BEGIN:VEVENT
DTSTART;TZID=Australia/Sydney:20210127T173000
DTEND;TZID=Australia/Sydney:20210331T182000
DTSTAMP:20210301T073627
CREATED:20200703T053345Z
LAST-MODIFIED:20210202T232627Z
UID:11407-1611768600-1617214800@www.neram.com.au
SUMMARY:Yoga - Wednesday Evening Class
DESCRIPTION:Enrich your Wednesday evenings with this 50-minute energizing yoga experience at your local art museum. \nConnect your body\, mind\, and spirit to a changing artistic surrounding\, as self-reflection and art appreciation come together. \nAll levels of experience are welcome. Participants will be guided through various yoga techniques\, postures\, and breathing techniques with our qualified yoga instructor Julie Collins. \n\nProgram: 10 week term starting 27 January\nCost: $120 Friends of NERAM\, $132 General for 10 sessions. Casual rate is $15 per session. You MUST call ahead to confirm there is enough space.\nEquipment: For COVID-19 hygiene purposes\, we ask that attendees bring their own yoga mat. Blocks and Resistance Bands are available for hire for the term for a $10 deposit on booking.\n\nBookings close Monday\, 25th January at 4pm. A waiver must be signed at the beginning of the first session to be permitted to participate.  \nBOOK NOW \nOnly 15 spaces available each session! \nNERAM is complying with all current COVID-19 health restrictions and recommendations. Please see our Visitor Guidelines for full details. All programs are subject to changes. \n
URL:https://www.neram.com.au/event/term-3-2020-yoga-in-the-museum/2021-01-27/
CATEGORIES:Art Classes,Event
ATTACH;FMTTYPE=image/png:https://www.neram.com.au/content/uploads/2020/07/Untitled-design-4.png
END:VEVENT
BEGIN:VEVENT
DTSTART;TZID=Australia/Sydney:20210129T090000
DTEND;TZID=Australia/Sydney:20210326T095000
DTSTAMP:20210301T073627
CREATED:20200703T054405Z
LAST-MODIFIED:20210202T232543Z
UID:11450-1611910800-1616752200@www.neram.com.au
SUMMARY:Yoga - Friday Morning Class
DESCRIPTION:Enrich your Friday mornings with this 50-minute energizing yoga experience at your local art museum. \nConnect your body\, mind\, and spirit to a changing artistic surrounding\, as self-reflection and art appreciation come together. \nAll levels of experience are welcome. Participants will be guided through various yoga techniques\, postures\, and breathing techniques with our qualified yoga instructor Julie Collins. \n\nProgram: 9 week term starting 29 January 2021\nCost: $110 Friends of NERAM\, $120 General for 10 sessions. Casual rate is $15 per session. You MUST call ahead to confirm there is enough space.\nEquipment: For COVID-19 hygiene purposes\, we ask that attendees bring their own yoga mat. Blocks and Resistance Bands are available for hire for the term for a $10 deposit on booking.\n\nBookings close Wednesday\, 27 January at 4pm. A waiver must be signed at the beginning of the first session to be permitted to participate.  \nBOOK NOW \nOnly 15 spaces available each session! A minimum of participants is required for classes to proceed. \nNERAM is complying with all current COVID-19 health restrictions and recommendations. Please see our Visitor Guidelines for full details. All programs are subject to changes. \n
URL:https://www.neram.com.au/event/yoga-in-the-museum-friday-morning-class/2021-01-29/
CATEGORIES:Event
ATTACH;FMTTYPE=image/png:https://www.neram.com.au/content/uploads/2020/07/Untitled-design-5.png
END:VEVENT
END:VCALENDAR